BEGIN:VCALENDAR
VERSION:2.0
PRODID:calendify.com
BEGIN:VEVENT
UID:calendify-session-eLYOwR984zp
DTSTART:20241230T110000Z
SEQUENCE:0
TRANSP:OPAQUE
DTEND:20241230T120000Z
URL:https://calendify.com/session/eLYOwR984zp
LOCATION:Saal A - Programmierplätze
SUMMARY:VoxelBox Hacking
CLASS:PUBLIC
DESCRIPTION:https://calendify.com/session/eLYOwR984zp
DTSTAMP:20260424T004105Z
CREATED:20241227T141516Z
LAST-MODIFIED:20250101T225004Z
END:VEVENT
END:VCALENDAR