BEGIN:VCALENDAR
VERSION:2.0
PRODID:calendify.com
BEGIN:VEVENT
UID:calendify-session-eLYOwY0Bgzp
DTSTART:20221227T200000Z
SEQUENCE:0
TRANSP:OPAQUE
DTEND:20221227T213000Z
URL:https://calendify.com/session/eLYOwY0Bgzp
LOCATION:Bühne
SUMMARY:Alles ist Eins. Außer der 0. – Gemeinsames Film schauen
CLASS:PUBLIC
DESCRIPTION:https://calendify.com/session/eLYOwY0Bgzp
DTSTAMP:20260424T040609Z
CREATED:20221221T105332Z
LAST-MODIFIED:20221230T225005Z
END:VEVENT
END:VCALENDAR