BEGIN:VCALENDAR
VERSION:2.0
PRODID:calendify.com
BEGIN:VEVENT
UID:calendify-session-eLYOwYPBgzp
DTSTART:20230606T164500Z
SEQUENCE:0
TRANSP:OPAQUE
DTEND:20230606T171500Z
URL:https://calendify.com/session/eLYOwYPBgzp
LOCATION:Lightning Box 2
SUMMARY:Dignity of posthumous data processing
CLASS:PUBLIC
DESCRIPTION:https://calendify.com/session/eLYOwYPBgzp
DTSTAMP:20260420T095737Z
CREATED:20230604T163803Z
LAST-MODIFIED:20230606T124205Z
END:VEVENT
END:VCALENDAR