BEGIN:VCALENDAR
VERSION:2.0
PRODID:calendify.com
BEGIN:VEVENT
UID:calendify-session-eLYOwYY5gzp
DTSTART:20221229T140000Z
SEQUENCE:0
TRANSP:OPAQUE
DTEND:20221229T170000Z
URL:https://calendify.com/session/eLYOwYY5gzp
LOCATION:Workshopraum 1 - H2-2.5
SUMMARY:Awareness & Diversität: Theorie & Performanz für(s) Freiräume(n)
 . by 22F3 AG Awareness
CLASS:PUBLIC
DESCRIPTION:https://calendify.com/session/eLYOwYY5gzp
DTSTAMP:20260422T175257Z
CREATED:20221222T170031Z
LAST-MODIFIED:20221230T225007Z
END:VEVENT
END:VCALENDAR