BEGIN:VCALENDAR
VERSION:2.0
PRODID:calendify.com
BEGIN:VEVENT
UID:calendify-session-eLYOwYdEgzp
DTSTART:20230609T091500Z
SEQUENCE:0
TRANSP:OPAQUE
DTEND:20230609T101500Z
URL:https://calendify.com/session/eLYOwYdEgzp
LOCATION:Vortragssaal
SUMMARY:Balkonkraftwerke: Babyschritte Richtung Solarpunk
CLASS:PUBLIC
DESCRIPTION:https://calendify.com/session/eLYOwYdEgzp
DTSTAMP:20260424T025431Z
CREATED:20230527T091820Z
LAST-MODIFIED:20230611T215002Z
END:VEVENT
END:VCALENDAR