BEGIN:VCALENDAR
VERSION:2.0
PRODID:calendify.com
BEGIN:VEVENT
UID:calendify-session-eLYOwYkngzp
DTSTART:20221229T164500Z
SEQUENCE:0
TRANSP:OPAQUE
DTEND:20221229T174500Z
URL:https://calendify.com/session/eLYOwYkngzp
LOCATION:HIP - Track 1 - Room 5
SUMMARY:B3 - BuntesBugBounty - den Hackerparagraphen Hacken
CLASS:PUBLIC
DESCRIPTION:https://calendify.com/session/eLYOwYkngzp
DTSTAMP:20260423T095224Z
CREATED:20221218T163041Z
LAST-MODIFIED:20221230T225002Z
END:VEVENT
END:VCALENDAR