BEGIN:VCALENDAR
VERSION:2.0
PRODID:calendify.com
BEGIN:VEVENT
UID:calendify-session-eLYOwYp5gzp
DTSTART:20230607T091500Z
SEQUENCE:0
TRANSP:OPAQUE
DTEND:20230607T101500Z
URL:https://calendify.com/session/eLYOwYp5gzp
LOCATION:ARD Perspective Lab
SUMMARY:Algorithmus vs. Kuratierung // Wie Audio-Streamingplattformen ihren
  Content empfehlen
CLASS:PUBLIC
DESCRIPTION:https://calendify.com/session/eLYOwYp5gzp
DTSTAMP:20260420T001424Z
CREATED:20230604T163805Z
LAST-MODIFIED:20230606T124205Z
END:VEVENT
END:VCALENDAR