BEGIN:VCALENDAR
VERSION:2.0
PRODID:calendify.com
BEGIN:VEVENT
UID:calendify-session-eLYOwaG5gzp
DTSTART:20220610T130000Z
SEQUENCE:0
TRANSP:OPAQUE
DTEND:20220610T131500Z
URL:https://calendify.com/session/eLYOwaG5gzp
LOCATION:Stage 1
SUMMARY:\"Cancel Culture\": Surprise\, Handeln hat Konsequenzen! El Hotzo e
 rklärt warum
CLASS:PUBLIC
DESCRIPTION:https://calendify.com/session/eLYOwaG5gzp
DTSTAMP:20260420T100131Z
CREATED:20220526T162947Z
LAST-MODIFIED:20220613T235204Z
END:VEVENT
END:VCALENDAR