BEGIN:VCALENDAR
VERSION:2.0
PRODID:calendify.com
BEGIN:VEVENT
UID:calendify-session-eLYOwajBgzp
DTSTART:20220205T160000Z
SEQUENCE:0
TRANSP:OPAQUE
DTEND:20220205T170000Z
URL:https://calendify.com/session/eLYOwajBgzp
LOCATION:D.openpower
SUMMARY:OpenPOWER Foundation 2.0
CLASS:PUBLIC
DESCRIPTION:https://calendify.com/session/eLYOwajBgzp
DTSTAMP:20260420T082134Z
CREATED:20220124T100102Z
LAST-MODIFIED:20220206T225003Z
END:VEVENT
END:VCALENDAR