BEGIN:VCALENDAR
VERSION:2.0
PRODID:calendify.com
BEGIN:VEVENT
UID:calendify-session-eLYOwan5gzp
DTSTART:20220609T130000Z
SEQUENCE:0
TRANSP:OPAQUE
DTEND:20220609T140000Z
URL:https://calendify.com/session/eLYOwan5gzp
LOCATION:Hoppetosse: Sonnendeck
SUMMARY:Meetup konstruktiver Journalismus
CLASS:PUBLIC
DESCRIPTION:https://calendify.com/session/eLYOwan5gzp
DTSTAMP:20260424T003748Z
CREATED:20220526T162948Z
LAST-MODIFIED:20220613T235204Z
END:VEVENT
END:VCALENDAR