BEGIN:VCALENDAR
VERSION:2.0
PRODID:calendify.com
BEGIN:VEVENT
UID:calendify-session-eLYOwanPgzp
DTSTART:20220609T141500Z
SEQUENCE:0
TRANSP:OPAQUE
DTEND:20220609T144500Z
URL:https://calendify.com/session/eLYOwanPgzp
LOCATION:Get a Job-Area
SUMMARY:Die Bundesdruckerei: Unsere Tradition? Innovation!
CLASS:PUBLIC
DESCRIPTION:https://calendify.com/session/eLYOwanPgzp
DTSTAMP:20260419T145352Z
CREATED:20220526T162948Z
LAST-MODIFIED:20220613T235204Z
END:VEVENT
END:VCALENDAR