BEGIN:VCALENDAR
VERSION:2.0
PRODID:calendify.com
BEGIN:VEVENT
UID:calendify-session-eLYOwap8gzp
DTSTART:20220609T140000Z
SEQUENCE:0
TRANSP:OPAQUE
DTEND:20220609T150000Z
URL:https://calendify.com/session/eLYOwap8gzp
LOCATION:Home Base
SUMMARY:Business Ticket-Tour: Eine nachhaltige(re) re:publica
CLASS:PUBLIC
DESCRIPTION:https://calendify.com/session/eLYOwap8gzp
DTSTAMP:20260424T040114Z
CREATED:20220609T184952Z
LAST-MODIFIED:20220613T235205Z
END:VEVENT
END:VCALENDAR