BEGIN:VCALENDAR
VERSION:2.0
PRODID:calendify.com
BEGIN:VEVENT
UID:calendify-session-eLYOwayEgzp
DTSTART:20220521T130000Z
SEQUENCE:0
TRANSP:OPAQUE
DTEND:20220521T160000Z
URL:https://calendify.com/session/eLYOwayEgzp
LOCATION:Ausstellung BioMedien
SUMMARY:Docker Einführung - Ein Hands-On Workshop
CLASS:PUBLIC
DESCRIPTION:https://calendify.com/session/eLYOwayEgzp
DTSTAMP:20260421T012704Z
CREATED:20220502T005753Z
LAST-MODIFIED:20220521T215002Z
END:VEVENT
END:VCALENDAR