BEGIN:VCALENDAR
VERSION:2.0
PRODID:calendify.com
BEGIN:VEVENT
UID:calendify-session-eLYOweAEgzp
DTSTART:20180401T134500Z
SEQUENCE:0
TRANSP:OPAQUE
DTEND:20180401T144500Z
URL:https://calendify.com/session/eLYOweAEgzp
LOCATION:Heisenberg 2
SUMMARY:Failmap: transparency == better security for everyone!
CLASS:PUBLIC
DESCRIPTION:https://calendify.com/session/eLYOweAEgzp
DTSTAMP:20260422T210458Z
CREATED:20200520T231946Z
LAST-MODIFIED:20200520T231946Z
END:VEVENT
END:VCALENDAR