BEGIN:VCALENDAR
VERSION:2.0
PRODID:calendify.com
BEGIN:VEVENT
UID:calendify-session-eLYOweBBgzp
DTSTART:20171227T114500Z
SEQUENCE:0
TRANSP:OPAQUE
DTEND:20171227T124500Z
URL:https://calendify.com/session/eLYOweBBgzp
LOCATION:Saal Dijkstra
SUMMARY:eMMC hacking\, or: how I fixed long-dead Galaxy S3 phones
CLASS:PUBLIC
DESCRIPTION:https://calendify.com/session/eLYOweBBgzp
DTSTAMP:20260424T014856Z
CREATED:20200625T113327Z
LAST-MODIFIED:20200625T113327Z
END:VEVENT
END:VCALENDAR