BEGIN:VCALENDAR
VERSION:2.0
PRODID:calendify.com
BEGIN:VEVENT
UID:calendify-session-eLYOweWEgzp
DTSTART:20190921T150000Z
SEQUENCE:0
TRANSP:OPAQUE
DTEND:20190921T154500Z
URL:https://calendify.com/session/eLYOweWEgzp
LOCATION:Kleiner Saal
SUMMARY:How Technology helps to repress people in dictatorship on example o
 f Belarus
CLASS:PUBLIC
DESCRIPTION:https://calendify.com/session/eLYOweWEgzp
DTSTAMP:20260424T101121Z
CREATED:20200610T174346Z
LAST-MODIFIED:20200610T174346Z
END:VEVENT
END:VCALENDAR