BEGIN:VCALENDAR
VERSION:2.0
PRODID:calendify.com
BEGIN:VEVENT
UID:calendify-session-eLYOwk2EOzp
DTSTART:20180511T203000Z
SEQUENCE:0
TRANSP:OPAQUE
DTEND:20180511T210000Z
URL:https://calendify.com/session/eLYOwk2EOzp
LOCATION:ZKM_OpenHUB
SUMMARY:\"Nicht mitten auf der Straße!\" oder was bringt die OSM für uns 
 Fußgänger?
CLASS:PUBLIC
DESCRIPTION:https://calendify.com/session/eLYOwk2EOzp
DTSTAMP:20260422T015338Z
CREATED:20200513T011828Z
LAST-MODIFIED:20200513T011828Z
END:VEVENT
END:VCALENDAR