BEGIN:VCALENDAR
VERSION:2.0
PRODID:calendify.com
BEGIN:VEVENT
UID:calendify-session-eLYOwk2VOzp
DTSTART:20180511T123000Z
SEQUENCE:0
TRANSP:OPAQUE
DTEND:20180511T133000Z
URL:https://calendify.com/session/eLYOwk2VOzp
LOCATION:ZKM_AckerSpace
SUMMARY:Mitgliederverwaltung mit byro
CLASS:PUBLIC
DESCRIPTION:https://calendify.com/session/eLYOwk2VOzp
DTSTAMP:20260422T142212Z
CREATED:20200513T011828Z
LAST-MODIFIED:20200513T011828Z
END:VEVENT
END:VCALENDAR