BEGIN:VCALENDAR
VERSION:2.0
PRODID:calendify.com
BEGIN:VEVENT
UID:calendify-session-eLYOwk5VOzp
DTSTART:20200201T114000Z
SEQUENCE:0
TRANSP:OPAQUE
DTEND:20200201T115500Z
URL:https://calendify.com/session/eLYOwk5VOzp
LOCATION:H.2215 (Ferrer)
SUMMARY:What's in my food ? Open Food Facts\, the Wikipedia of Food
CLASS:PUBLIC
DESCRIPTION:https://calendify.com/session/eLYOwk5VOzp
DTSTAMP:20260420T185712Z
CREATED:20200513T234730Z
LAST-MODIFIED:20210426T093308Z
END:VEVENT
END:VCALENDAR