BEGIN:VCALENDAR
VERSION:2.0
PRODID:calendify.com
BEGIN:VEVENT
UID:calendify-session-eLYOwk98Ozp
DTSTART:20190531T170000Z
SEQUENCE:0
TRANSP:OPAQUE
DTEND:20190531T180000Z
URL:https://calendify.com/session/eLYOwk98Ozp
LOCATION:ZKM_OpenHUB
SUMMARY:Dämliche Dinge mit Git Repositorys anstellen
CLASS:PUBLIC
DESCRIPTION:https://calendify.com/session/eLYOwk98Ozp
DTSTAMP:20260424T081546Z
CREATED:20200509T115104Z
LAST-MODIFIED:20200509T115104Z
END:VEVENT
END:VCALENDAR