BEGIN:VCALENDAR
VERSION:2.0
PRODID:calendify.com
BEGIN:VEVENT
UID:calendify-session-eLYOwkJNOzp
DTSTART:20200202T092500Z
SEQUENCE:0
TRANSP:OPAQUE
DTEND:20200202T094500Z
URL:https://calendify.com/session/eLYOwkJNOzp
LOCATION:UD2.208 (Decroly)
SUMMARY:Collaboration between Free RTC projects
CLASS:PUBLIC
DESCRIPTION:https://calendify.com/session/eLYOwkJNOzp
DTSTAMP:20260423T135302Z
CREATED:20200513T234735Z
LAST-MODIFIED:20210426T093310Z
END:VEVENT
END:VCALENDAR