BEGIN:VCALENDAR
VERSION:2.0
PRODID:calendify.com
BEGIN:VEVENT
UID:calendify-session-eLYOwkJXOzp
DTSTART:20200202T101000Z
SEQUENCE:0
TRANSP:OPAQUE
DTEND:20200202T103500Z
URL:https://calendify.com/session/eLYOwkJXOzp
LOCATION:UD2.120 (Chavanne)
SUMMARY:Stories around ModBus
CLASS:PUBLIC
DESCRIPTION:https://calendify.com/session/eLYOwkJXOzp
DTSTAMP:20260423T062959Z
CREATED:20200513T234735Z
LAST-MODIFIED:20210426T093310Z
END:VEVENT
END:VCALENDAR