BEGIN:VCALENDAR
VERSION:2.0
PRODID:calendify.com
BEGIN:VEVENT
UID:calendify-session-eLYOwkN8Ozp
DTSTART:20200202T113000Z
SEQUENCE:0
TRANSP:OPAQUE
DTEND:20200202T115500Z
URL:https://calendify.com/session/eLYOwkN8Ozp
LOCATION:UB2.147
SUMMARY:Which video network streaming protocol should I use?
CLASS:PUBLIC
DESCRIPTION:https://calendify.com/session/eLYOwkN8Ozp
DTSTAMP:20260422T223113Z
CREATED:20200513T234735Z
LAST-MODIFIED:20210426T093310Z
END:VEVENT
END:VCALENDAR