BEGIN:VCALENDAR
VERSION:2.0
PRODID:calendify.com
BEGIN:VEVENT
UID:calendify-session-eLYOwkNXOzp
DTSTART:20200202T093000Z
SEQUENCE:0
TRANSP:OPAQUE
DTEND:20200202T100000Z
URL:https://calendify.com/session/eLYOwkNXOzp
LOCATION:UB2.252A (Lameere)
SUMMARY:Build real-world gaming hardware with TinyGo
CLASS:PUBLIC
DESCRIPTION:https://calendify.com/session/eLYOwkNXOzp
DTSTAMP:20260421T212242Z
CREATED:20200513T234735Z
LAST-MODIFIED:20210426T093310Z
END:VEVENT
END:VCALENDAR