BEGIN:VCALENDAR
VERSION:2.0
PRODID:calendify.com
BEGIN:VEVENT
UID:calendify-session-eLYOwkZBOzp
DTSTART:20200201T093000Z
SEQUENCE:0
TRANSP:OPAQUE
DTEND:20200201T095500Z
URL:https://calendify.com/session/eLYOwkZBOzp
LOCATION:UB2.252A (Lameere)
SUMMARY:Extending sudo in Python
CLASS:PUBLIC
DESCRIPTION:https://calendify.com/session/eLYOwkZBOzp
DTSTAMP:20260422T202007Z
CREATED:20200513T234730Z
LAST-MODIFIED:20210426T093308Z
END:VEVENT
END:VCALENDAR