BEGIN:VCALENDAR
VERSION:2.0
PRODID:calendify.com
BEGIN:VEVENT
UID:calendify-session-eLYOwkdnOzp
DTSTART:20200201T124500Z
SEQUENCE:0
TRANSP:OPAQUE
DTEND:20200201T130000Z
URL:https://calendify.com/session/eLYOwkdnOzp
LOCATION:H.1309 (Van Rijn)
SUMMARY:extending catalog zones
CLASS:PUBLIC
DESCRIPTION:https://calendify.com/session/eLYOwkdnOzp
DTSTAMP:20260423T175928Z
CREATED:20200513T234730Z
LAST-MODIFIED:20210426T093308Z
END:VEVENT
END:VCALENDAR