BEGIN:VCALENDAR
VERSION:2.0
PRODID:calendify.com
BEGIN:VEVENT
UID:calendify-session-eLYOwkrXOzp
DTSTART:20190821T100000Z
SEQUENCE:0
TRANSP:OPAQUE
DTEND:20190821T104500Z
URL:https://calendify.com/session/eLYOwkrXOzp
LOCATION:Meitner
SUMMARY:Knoten 101
CLASS:PUBLIC
DESCRIPTION:https://calendify.com/session/eLYOwkrXOzp
DTSTAMP:20260424T215029Z
CREATED:20200513T001655Z
LAST-MODIFIED:20200513T003255Z
END:VEVENT
END:VCALENDAR