BEGIN:VCALENDAR
VERSION:2.0
PRODID:calendify.com
BEGIN:VEVENT
UID:calendify-session-eLYOwr3j4zp
DTSTART:20260131T160000Z
SEQUENCE:0
TRANSP:OPAQUE
DTEND:20260131T163000Z
URL:https://calendify.com/session/eLYOwr3j4zp
LOCATION:UD2.218A
SUMMARY:Ecosystems\, Not Projects: Rethinking Open Source Foundation Fundin
 g
CLASS:PUBLIC
DESCRIPTION:https://calendify.com/session/eLYOwr3j4zp
DTSTAMP:20260422T084319Z
CREATED:20260131T063309Z
LAST-MODIFIED:20260201T163231Z
END:VEVENT
END:VCALENDAR