BEGIN:VCALENDAR
VERSION:2.0
PRODID:calendify.com
BEGIN:VEVENT
UID:calendify-session-eLYOwxKEMzp
DTSTART:20200412T150000Z
SEQUENCE:0
TRANSP:OPAQUE
DTEND:20200412T154500Z
URL:https://calendify.com/session/eLYOwxKEMzp
LOCATION:Feinler
SUMMARY:OpenPGP-verschlüsselte Mails mit Python
CLASS:PUBLIC
DESCRIPTION:https://calendify.com/session/eLYOwxKEMzp
DTSTAMP:20260423T140021Z
CREATED:20200429T012729Z
LAST-MODIFIED:20210210T013636Z
END:VEVENT
END:VCALENDAR