BEGIN:VCALENDAR
VERSION:2.0
PRODID:calendify.com
BEGIN:VEVENT
UID:calendify-session-ekE43007Opd
DTSTART:20210206T123000Z
SEQUENCE:0
TRANSP:OPAQUE
DTEND:20210206T125000Z
URL:https://calendify.com/session/ekE43007Opd
LOCATION:D.design
SUMMARY:Communicating CryptPad 
CLASS:PUBLIC
DESCRIPTION:https://calendify.com/session/ekE43007Opd
DTSTAMP:20260421T151543Z
CREATED:20210111T170318Z
LAST-MODIFIED:20210208T224802Z
END:VEVENT
END:VCALENDAR