BEGIN:VCALENDAR
VERSION:2.0
PRODID:calendify.com
BEGIN:VEVENT
UID:calendify-session-ekE4306lOpd
DTSTART:20210206T083000Z
SEQUENCE:0
TRANSP:OPAQUE
DTEND:20210206T090000Z
URL:https://calendify.com/session/ekE4306lOpd
LOCATION:S.gsoc
SUMMARY:Welcome to the stand for Google Summer of Code
CLASS:PUBLIC
DESCRIPTION:https://calendify.com/session/ekE4306lOpd
DTSTAMP:20260419T211300Z
CREATED:20210125T190820Z
LAST-MODIFIED:20210208T224803Z
END:VEVENT
END:VCALENDAR