BEGIN:VCALENDAR
VERSION:2.0
PRODID:calendify.com
BEGIN:VEVENT
UID:calendify-session-ekE430ANOpd
DTSTART:20210207T090000Z
SEQUENCE:0
TRANSP:OPAQUE
DTEND:20210207T091000Z
URL:https://calendify.com/session/ekE430ANOpd
LOCATION:D.kotlin
SUMMARY:Kotlin DevRoom Welcoming Remarks
CLASS:PUBLIC
DESCRIPTION:https://calendify.com/session/ekE430ANOpd
DTSTAMP:20260423T145511Z
CREATED:20210111T170320Z
LAST-MODIFIED:20210208T224804Z
END:VEVENT
END:VCALENDAR