BEGIN:VCALENDAR
VERSION:2.0
PRODID:calendify.com
BEGIN:VEVENT
UID:calendify-session-ekE430E6Opd
DTSTART:20210207T154500Z
SEQUENCE:0
TRANSP:OPAQUE
DTEND:20210207T160000Z
URL:https://calendify.com/session/ekE430E6Opd
LOCATION:D.composition
SUMMARY:Building the world’s first free open source database of FOSS and 
 their vulnerabilities.
CLASS:PUBLIC
DESCRIPTION:https://calendify.com/session/ekE430E6Opd
DTSTAMP:20260419T182415Z
CREATED:20210111T170319Z
LAST-MODIFIED:20210208T224803Z
END:VEVENT
END:VCALENDAR