BEGIN:VCALENDAR
VERSION:2.0
PRODID:calendify.com
BEGIN:VEVENT
UID:calendify-session-ekE430PdOpd
DTSTART:20210207T161000Z
SEQUENCE:0
TRANSP:OPAQUE
DTEND:20210207T163000Z
URL:https://calendify.com/session/ekE430PdOpd
LOCATION:D.declarative.minimalistic
SUMMARY:Ordered Key-Value Stores
CLASS:PUBLIC
DESCRIPTION:https://calendify.com/session/ekE430PdOpd
DTSTAMP:20260422T184526Z
CREATED:20210201T190824Z
LAST-MODIFIED:20210208T224804Z
END:VEVENT
END:VCALENDAR