BEGIN:VCALENDAR
VERSION:2.0
PRODID:calendify.com
BEGIN:VEVENT
UID:calendify-session-ekE430XzOpd
DTSTART:20201229T200000Z
SEQUENCE:0
TRANSP:OPAQUE
DTEND:20201229T210000Z
URL:https://calendify.com/session/ekE430XzOpd
LOCATION:Wikipaka
SUMMARY:Operation Mindfuck Vol. 4
CLASS:PUBLIC
DESCRIPTION:https://calendify.com/session/ekE430XzOpd
DTSTAMP:20260423T023648Z
CREATED:20210111T023303Z
LAST-MODIFIED:20210114T154804Z
END:VEVENT
END:VCALENDAR