BEGIN:VCALENDAR
VERSION:2.0
PRODID:calendify.com
BEGIN:VEVENT
UID:calendify-session-ekE430adOpd
DTSTART:20210207T130000Z
SEQUENCE:0
TRANSP:OPAQUE
DTEND:20210207T134500Z
URL:https://calendify.com/session/ekE430adOpd
LOCATION:D.perl
SUMMARY:Imagining the Ideal Language for Writing Free Software
CLASS:PUBLIC
DESCRIPTION:https://calendify.com/session/ekE430adOpd
DTSTAMP:20260422T075609Z
CREATED:20210129T190821Z
LAST-MODIFIED:20210208T224804Z
END:VEVENT
END:VCALENDAR