BEGIN:VCALENDAR
VERSION:2.0
PRODID:calendify.com
BEGIN:VEVENT
UID:calendify-session-ekE430kAOpd
DTSTART:20210206T163000Z
SEQUENCE:0
TRANSP:OPAQUE
DTEND:20210206T170000Z
URL:https://calendify.com/session/ekE430kAOpd
LOCATION:D.mariadb
SUMMARY:Buffer pool performance improvements
CLASS:PUBLIC
DESCRIPTION:https://calendify.com/session/ekE430kAOpd
DTSTAMP:20260419T164738Z
CREATED:20210111T170319Z
LAST-MODIFIED:20210208T224802Z
END:VEVENT
END:VCALENDAR