BEGIN:VCALENDAR
VERSION:2.0
PRODID:calendify.com
BEGIN:VEVENT
UID:calendify-session-ekE430qNOpd
DTSTART:20210207T150000Z
SEQUENCE:0
TRANSP:OPAQUE
DTEND:20210207T153000Z
URL:https://calendify.com/session/ekE430qNOpd
LOCATION:D.docs
SUMMARY:20 years with DocBook
CLASS:PUBLIC
DESCRIPTION:https://calendify.com/session/ekE430qNOpd
DTSTAMP:20260423T171722Z
CREATED:20210111T170320Z
LAST-MODIFIED:20210208T224804Z
END:VEVENT
END:VCALENDAR