BEGIN:VCALENDAR
VERSION:2.0
PRODID:calendify.com
BEGIN:VEVENT
UID:calendify-session-ekE43807Opd
DTSTART:20230722T130000Z
SEQUENCE:0
TRANSP:OPAQUE
DTEND:20230722T140000Z
URL:https://calendify.com/session/ekE43807Opd
LOCATION:woanders
SUMMARY:Schmieden auf der IGER
CLASS:PUBLIC
DESCRIPTION:https://calendify.com/session/ekE43807Opd
DTSTAMP:20260424T002603Z
CREATED:20230806T113705Z
LAST-MODIFIED:20230806T113705Z
END:VEVENT
END:VCALENDAR