BEGIN:VCALENDAR
VERSION:2.0
PRODID:calendify.com
BEGIN:VEVENT
UID:calendify-session-ekE4386dOpd
DTSTART:20231228T180000Z
SEQUENCE:0
TRANSP:OPAQUE
DTEND:20231228T190000Z
URL:https://calendify.com/session/ekE4386dOpd
LOCATION:FOSS-HW Workshop Area [CDC Saal 3]
SUMMARY:Building Tiny Programming Languages (Mohit Karekar)
CLASS:PUBLIC
DESCRIPTION:https://calendify.com/session/ekE4386dOpd
DTSTAMP:20260420T080301Z
CREATED:20231226T161002Z
LAST-MODIFIED:20240401T142932Z
END:VEVENT
END:VCALENDAR