BEGIN:VCALENDAR
VERSION:2.0
PRODID:calendify.com
BEGIN:VEVENT
UID:calendify-session-ekE438reOpd
DTSTART:20240608T150000Z
SEQUENCE:0
TRANSP:OPAQUE
DTEND:20240608T161500Z
URL:https://calendify.com/session/ekE438reOpd
LOCATION:Bühne
SUMMARY:Lightning Talks
CLASS:PUBLIC
DESCRIPTION:https://calendify.com/session/ekE438reOpd
DTSTAMP:20260420T183730Z
CREATED:20240608T194121Z
LAST-MODIFIED:20240610T213338Z
END:VEVENT
END:VCALENDAR