BEGIN:VCALENDAR
VERSION:2.0
PRODID:calendify.com
BEGIN:VEVENT
UID:calendify-session-ekE438xzOpd
DTSTART:20231230T134500Z
SEQUENCE:0
TRANSP:OPAQUE
DTEND:20231230T144500Z
URL:https://calendify.com/session/ekE438xzOpd
LOCATION:cyber4EDU Assembly
SUMMARY:cyber4EDU (Zu-)Hörstunde - Fokus Hochschule
CLASS:PUBLIC
DESCRIPTION:https://calendify.com/session/ekE438xzOpd
DTSTAMP:20260423T030722Z
CREATED:20231228T112005Z
LAST-MODIFIED:20240401T142934Z
END:VEVENT
END:VCALENDAR