BEGIN:VCALENDAR
VERSION:2.0
PRODID:calendify.com
BEGIN:VEVENT
UID:calendify-session-ekE438yROpd
DTSTART:20231229T115500Z
SEQUENCE:0
TRANSP:OPAQUE
DTEND:20231229T123500Z
URL:https://calendify.com/session/ekE438yROpd
LOCATION:Saal 1
SUMMARY:Darf's noch etwas visionärer sein?
CLASS:PUBLIC
DESCRIPTION:https://calendify.com/session/ekE438yROpd
DTSTAMP:20260421T155630Z
CREATED:20231215T204820Z
LAST-MODIFIED:20240401T142932Z
END:VEVENT
END:VCALENDAR