BEGIN:VCALENDAR
VERSION:2.0
PRODID:calendify.com
BEGIN:VEVENT
UID:calendify-session-ekE43A6AMpd
DTSTART:20260201T120000Z
SEQUENCE:0
TRANSP:OPAQUE
DTEND:20260201T123000Z
URL:https://calendify.com/session/ekE43A6AMpd
LOCATION:UB5.132
SUMMARY:Profile-Guided Optimization (PGO) in Go: current state and challeng
 es
CLASS:PUBLIC
DESCRIPTION:https://calendify.com/session/ekE43A6AMpd
DTSTAMP:20260424T072357Z
CREATED:20260131T063322Z
LAST-MODIFIED:20260201T163232Z
END:VEVENT
END:VCALENDAR