BEGIN:VCALENDAR
VERSION:2.0
PRODID:calendify.com
BEGIN:VEVENT
UID:calendify-session-ekE43B2Agpd
DTSTART:20200201T150000Z
SEQUENCE:0
TRANSP:OPAQUE
DTEND:20200201T155000Z
URL:https://calendify.com/session/ekE43B2Agpd
LOCATION:K.1.105 (La Fontaine)
SUMMARY:Address Space Isolation in the Linux Kernel
CLASS:PUBLIC
DESCRIPTION:https://calendify.com/session/ekE43B2Agpd
DTSTAMP:20260424T081917Z
CREATED:20200513T234730Z
LAST-MODIFIED:20210426T093308Z
END:VEVENT
END:VCALENDAR