BEGIN:VCALENDAR
VERSION:2.0
PRODID:calendify.com
BEGIN:VEVENT
UID:calendify-session-ekE43BdAgpd
DTSTART:20180512T190000Z
SEQUENCE:0
TRANSP:OPAQUE
DTEND:20180512T200000Z
URL:https://calendify.com/session/ekE43BdAgpd
LOCATION:ZKM_OpenHUB
SUMMARY:Lightning Talks
CLASS:PUBLIC
DESCRIPTION:https://calendify.com/session/ekE43BdAgpd
DTSTAMP:20260423T121852Z
CREATED:20200513T011828Z
LAST-MODIFIED:20200513T011828Z
END:VEVENT
END:VCALENDAR