BEGIN:VCALENDAR
VERSION:2.0
PRODID:calendify.com
BEGIN:VEVENT
UID:calendify-session-ekE43Bj6gpd
DTSTART:20200201T101000Z
SEQUENCE:0
TRANSP:OPAQUE
DTEND:20200201T104000Z
URL:https://calendify.com/session/ekE43Bj6gpd
LOCATION:H.1309 (Van Rijn)
SUMMARY:HashDNS and FQDNDHCP
CLASS:PUBLIC
DESCRIPTION:https://calendify.com/session/ekE43Bj6gpd
DTSTAMP:20260424T035833Z
CREATED:20200513T234730Z
LAST-MODIFIED:20210426T093308Z
END:VEVENT
END:VCALENDAR