BEGIN:VCALENDAR
VERSION:2.0
PRODID:calendify.com
BEGIN:VEVENT
UID:calendify-session-ekE43Bqlgpd
DTSTART:20190601T170000Z
SEQUENCE:0
TRANSP:OPAQUE
DTEND:20190601T180000Z
URL:https://calendify.com/session/ekE43Bqlgpd
LOCATION:HfG_Studio
SUMMARY:Einführung in OpenBSD
CLASS:PUBLIC
DESCRIPTION:https://calendify.com/session/ekE43Bqlgpd
DTSTAMP:20260419T210540Z
CREATED:20200509T115117Z
LAST-MODIFIED:20200509T115117Z
END:VEVENT
END:VCALENDAR