BEGIN:VCALENDAR
VERSION:2.0
PRODID:calendify.com
BEGIN:VEVENT
UID:calendify-session-ekE43ELdMpd
DTSTART:20241228T225500Z
SEQUENCE:0
TRANSP:OPAQUE
DTEND:20241228T233500Z
URL:https://calendify.com/session/ekE43ELdMpd
LOCATION:Saal GLITCH
SUMMARY:Die Faszination des echten Kugelspiels
CLASS:PUBLIC
DESCRIPTION:https://calendify.com/session/ekE43ELdMpd
DTSTAMP:20260423T230842Z
CREATED:20241208T214808Z
LAST-MODIFIED:20250101T225002Z
END:VEVENT
END:VCALENDAR