BEGIN:VCALENDAR
VERSION:2.0
PRODID:calendify.com
BEGIN:VEVENT
UID:calendify-session-ekE43L8zOpd
DTSTART:20210319T170000Z
SEQUENCE:0
TRANSP:OPAQUE
DTEND:20210319T180000Z
URL:https://calendify.com/session/ekE43L8zOpd
LOCATION:Spatial Chat / Social 2
SUMMARY:Facilitator Coaching Office Hours
CLASS:PUBLIC
DESCRIPTION:https://calendify.com/session/ekE43L8zOpd
DTSTAMP:20260422T162522Z
CREATED:20210426T094931Z
LAST-MODIFIED:20210426T094931Z
END:VEVENT
END:VCALENDAR